BEGIN:VCALENDAR
VERSION:2.0
PRODID:-//pretix//nextix.cloud//
BEGIN:VTIMEZONE
TZID:Asia/Ho_Chi_Minh
BEGIN:STANDARD
DTSTART:20000101T000000
RRULE:FREQ=YEARLY;BYMONTH=1
TZNAME:+07
TZOFFSETFROM:+0700
TZOFFSETTO:+0700
END:STANDARD
END:VTIMEZONE
BEGIN:VEVENT
UID:pretix-nha-hat-nghe-thuat-phuong-nam-vo-kich-xiec-huyen-su-rong-tien-47
 86-0@nextix.cloud
DTSTART;TZID=Asia/Ho_Chi_Minh:20230726T000000
DTEND;TZID=Asia/Ho_Chi_Minh:20230930T180000
DESCRIPTION:Tickets: https://nextix.cloud/nha-hat-nghe-thuat-phuong-nam/vo-
 kich-xiec-huyen-su-rong-tien-4786/\nAdmission: 00:00 26-07-2023\nOrganizer
 : TRUNG TÂM NGHỆ THUẬT THÀNH PHỐ HỒ CHÍ MINH
DTSTAMP:20260423T152338Z
LOCATION:2 Nguyễn Bỉnh Khiêm\, Phường Sài Gòn\, Thành phố Hồ Chí Minh
SUMMARY:VỞ KỊCH XIẾC HUYỀN SỬ RỒNG TIÊN
END:VEVENT
END:VCALENDAR
