BEGIN:VCALENDAR
VERSION:2.0
PRODID:-//pretix//nextix.cloud//
BEGIN:VTIMEZONE
TZID:Asia/Ho_Chi_Minh
BEGIN:STANDARD
DTSTART:20000101T000000
RRULE:FREQ=YEARLY;BYMONTH=1
TZNAME:+07
TZOFFSETFROM:+0700
TZOFFSETTO:+0700
END:STANDARD
END:VTIMEZONE
BEGIN:VEVENT
UID:pretix-ExplorascienceQuyNhon-Explorascience-2-418@nextix.cloud
DTSTART;TZID=Asia/Ho_Chi_Minh:20230806T143000
DTEND;TZID=Asia/Ho_Chi_Minh:20230806T170000
DESCRIPTION:Tickets: https://nextix.cloud/ExplorascienceQuyNhon/Explorascie
 nce-2/418/\nOrganizer: TRUNG TÂM KHÁM PHÁ KHOA HỌC VÀ ĐỔI MỚI S
 ÁNG TẠO
DTSTAMP:20260425T141735Z
SUMMARY:Vé thăm quan hàng ngày 14h30
END:VEVENT
END:VCALENDAR
