BEGIN:VCALENDAR
VERSION:2.0
PRODID:-//pretix//nextix.cloud//
BEGIN:VTIMEZONE
TZID:Asia/Ho_Chi_Minh
BEGIN:STANDARD
DTSTART:20000101T000000
RRULE:FREQ=YEARLY;BYMONTH=1
TZNAME:+07
TZOFFSETFROM:+0700
TZOFFSETTO:+0700
END:STANDARD
END:VTIMEZONE
BEGIN:VEVENT
UID:pretix-ExplorascienceQuyNhon-Explorascience-2-29109@nextix.cloud
DTSTART;TZID=Asia/Ho_Chi_Minh:20260307T183000
DTEND;TZID=Asia/Ho_Chi_Minh:20260307T210000
DESCRIPTION:Tickets: https://nextix.cloud/ExplorascienceQuyNhon/Explorascie
 nce-2/29109/\nAdmission: 18:00 07-03-2026\nOrganizer: TRUNG TÂM KHÁM PH
 Á KHOA HỌC VÀ ĐỔI MỚI SÁNG TẠO
DTSTAMP:20260423T230603Z
LOCATION:Trung Tâm Khám Phá Khoa Học và Đổi Mới Sáng Tạo
SUMMARY:Vé trải nghiệm tại Trạm quan sát thiên văn 18h45
END:VEVENT
END:VCALENDAR
