BEGIN:VCALENDAR
VERSION:2.0
PRODID:-//pretix//nextix.cloud//
BEGIN:VTIMEZONE
TZID:Asia/Ho_Chi_Minh
BEGIN:STANDARD
DTSTART:20000101T000000
RRULE:FREQ=YEARLY;BYMONTH=1
TZNAME:+07
TZOFFSETFROM:+0700
TZOFFSETTO:+0700
END:STANDARD
END:VTIMEZONE
BEGIN:VEVENT
UID:pretix-ExplorascienceQuyNhon-Explorascience-2-29086@nextix.cloud
DTSTART;TZID=Asia/Ho_Chi_Minh:20260303T180000
DTEND;TZID=Asia/Ho_Chi_Minh:20260303T203000
DESCRIPTION:Tickets: https://nextix.cloud/ExplorascienceQuyNhon/Explorascie
 nce-2/29086/\nAdmission: 17:30 03-03-2026\nOrganizer: TRUNG TÂM KHÁM PH
 Á KHOA HỌC VÀ ĐỔI MỚI SÁNG TẠO
DTSTAMP:20260423T220858Z
LOCATION:Trung tâm Khám phá Khoa học và Đổi mới Sáng tạo
SUMMARY:Vé trải nghiệm quan sát Trăng máu tại Trạm quan sát th
 iên văn 18h00
END:VEVENT
END:VCALENDAR
