BEGIN:VCALENDAR
VERSION:2.0
PRODID:-//pretix//nextix.cloud//
BEGIN:VTIMEZONE
TZID:Asia/Ho_Chi_Minh
BEGIN:STANDARD
DTSTART:20000101T000000
RRULE:FREQ=YEARLY;BYMONTH=1
TZNAME:+07
TZOFFSETFROM:+0700
TZOFFSETTO:+0700
END:STANDARD
END:VTIMEZONE
BEGIN:VEVENT
UID:pretix-ExplorascienceQuyNhon-Explorascience-2-10014@nextix.cloud
DTSTART;TZID=Asia/Ho_Chi_Minh:20241102T184500
DTEND;TZID=Asia/Ho_Chi_Minh:20241102T213000
DESCRIPTION:Tickets: https://nextix.cloud/ExplorascienceQuyNhon/Explorascie
 nce-2/10014/\nOrganizer: TRUNG TÂM KHÁM PHÁ KHOA HỌC VÀ ĐỔI MỚI
  SÁNG TẠO
DTSTAMP:20260425T153727Z
SUMMARY:Vé trải nghiệm về thiên văn học tại Trạm quan sát t
 hiên văn phổ thông 18h45
END:VEVENT
END:VCALENDAR
